BEGIN:VCALENDAR
VERSION:2.0
PRODID:-//wp-events-plugin.com//7.2.3.1//EN
TZID:America/Los_Angeles
X-WR-TIMEZONE:America/Los_Angeles
BEGIN:VEVENT
UID:4445@pasorobleswineries.net
DTSTART;TZID=America/Los_Angeles:20220903T110000
DTEND;TZID=America/Los_Angeles:20220904T170000
DTSTAMP:20220808T204656Z
URL:https://pasorobleswineries.net/paso-robles-events/zinfandel-vertical-t
 asting/
SUMMARY:Zinfandel Vertical Tasting
DESCRIPTION:VERTICAL TASTING SERIES\nThe First Weekend of the Month | Reser
 vations from 11:00 am - 4:00 pm | $30 per person\n\nJoin us the first week
 end of each month for our new Vertical Tasting Series. Enjoy a four-vintag
 e flight of Seven Oxen wine\, including a barrel sample of a not yet relea
 sed wine\, in this fun and educational tasting opportunity. Our September 
 Vertical Tasting Series will feature our Zinfandel. This is a rare opportu
 nity to taste wines from the Seven Oxen library\, as well as a chance to p
 urchase older vintages of our wine. Limited quantities of featured library
  wines will be available for purchase at the time of your tasting. See bel
 ow for the full Vertical Tasting Series schedule.\n\nVERTICAL TASTING SERI
 ES SCHEDULE\n\nSeptember 3rd &amp\; 4th - Zinfandel\nOctober 1st &amp\; 2n
 d - Cassidy\nNovember 5th &amp\; 6th - Grenache\nDecember 3rd &amp\; 4th -
  Tannat
ATTACH;FMTTYPE=image/jpeg:https://prw-media.s3.us-west-1.amazonaws.com/wp-
 content/uploads/2022/08/23145629/SquareVerticalSeries_SocialFlyer_5x5-Soci
 al-Flyer.jpg
CATEGORIES:Vertical Wine Tastings
LOCATION:Seven Oxen Estate WInes\, 3340 Ramada Dr. Suite A\, PASO ROBLES\, 
 CA\, 93446\, United States
GEO:35.5735575;-120.6970801
X-APPLE-STRUCTURED-LOCATION;VALUE=URI;X-ADDRESS=3340 Ramada Dr. Suite A\, P
 ASO ROBLES\, CA\, 93446\, United States;X-APPLE-RADIUS=100;X-TITLE=Seven O
 xen Estate WInes:geo:35.5735575,-120.6970801
END:VEVENT
BEGIN:VTIMEZONE
TZID:America/Los_Angeles
X-LIC-LOCATION:America/Los_Angeles
BEGIN:DAYLIGHT
DTSTART:20220313T030000
TZOFFSETFROM:-0800
TZOFFSETTO:-0700
TZNAME:PDT
END:DAYLIGHT
END:VTIMEZONE
END:VCALENDAR