BEGIN:VCALENDAR
VERSION:2.0
PRODID:-//wp-events-plugin.com//7.2.3.1//EN
TZID:America/Los_Angeles
X-WR-TIMEZONE:America/Los_Angeles
BEGIN:VEVENT
UID:6250@pasorobleswineries.net
DTSTART;TZID=America/Los_Angeles:20240420T110000
DTEND;TZID=America/Los_Angeles:20240421T163000
DTSTAMP:20240419T211531Z
URL:https://pasorobleswineries.net/paso-robles-events/wood-fired-pizza-and
 -wine-tasting-2024-04-20/
SUMMARY:Wood-fired Pizza and Wine Tasting
DESCRIPTION:Enjoy tasting award-winning wines by the flight\, glass or bo
 ttle while dining on gourmet\, wood-fired pizza with dough made from scrat
 ch in house.  Saturdays and Sundays only\; Weather will limit availabili
 ty\n\nWood-fired Pizza* - $22 each\n\n 	House Three Cheese\n 	House Pepper
 oni\n 	April Monthly Special - BBQ Chicken with Kate's Wine Jelly BBQ Sauc
 e\n\nLocal Cheese Plates* - $20 each\n\nWalk-ins welcome\; reservations ap
 preciated. To book a visit\, call 805-226-8463\, visit the Dubost website\
 , or email us at dubost@dubostwine.com.\n\n*Local ingredients sourced from
  Alle Pia Cured Meats\, Central Coast Creamery and more!
CATEGORIES:Wine Events
LOCATION:Dubost Winery\, 9988 Chimney Rock Road\, Paso Robles\, CA\, 93446\
 , United States
GEO:35.657969;-120.873763
X-APPLE-STRUCTURED-LOCATION;VALUE=URI;X-ADDRESS=9988 Chimney Rock Road\, Pa
 so Robles\, CA\, 93446\, United States;X-APPLE-RADIUS=100;X-TITLE=Dubost W
 inery:geo:35.657969,-120.873763
END:VEVENT
BEGIN:VTIMEZONE
TZID:America/Los_Angeles
X-LIC-LOCATION:America/Los_Angeles
BEGIN:DAYLIGHT
DTSTART:20240310T030000
TZOFFSETFROM:-0800
TZOFFSETTO:-0700
TZNAME:PDT
END:DAYLIGHT
END:VTIMEZONE
END:VCALENDAR