BEGIN:VCALENDAR
VERSION:2.0
PRODID:-//wp-events-plugin.com//7.2.3.1//EN
TZID:America/Los_Angeles
X-WR-TIMEZONE:America/Los_Angeles
BEGIN:VEVENT
UID:4653@pasorobleswineries.net
DTSTART;TZID=America/Los_Angeles:20230305T120000
DTEND;TZID=America/Los_Angeles:20230305T160000
DTSTAMP:20230223T220102Z
URL:https://pasorobleswineries.net/paso-robles-events/wine-safari/
SUMMARY:Wine Safari
DESCRIPTION:We are excited to be Participating in the 46 West wineries annu
 al Wine Safari benefiting Zoo to You Conservation Ambassadors:\nGiving a w
 orldwide voice to wildlife by providing a permanent\, loving home for disp
 laced\, abused\, abandoned\, or permanently injured wild and exotic animal
 s. Sharing these animal ambassadors helps us educate learners of all ages 
 about conservation\, connecting them to the wild world and inspiring them 
 to protect the planet.\nAll ticket proceeds and any additional donations w
 ill be donated to Zoo To You!\nAll wineries are donating their " 3 tasting
 s" towards this wonderful fundraiser.\nEach winery will have the official 
 Safari Passport for you to check-in with. Once you check-in and receive yo
 ur passport\, you will have access to tastings at each participating winer
 y on Saturday and Sunday.\nZoo to You Animals will be on display to see on
  Sunday from 12pm - 4pm ONLY.
ATTACH;FMTTYPE=image/jpeg:https://prw-media.s3.us-west-1.amazonaws.com/wp-
 content/uploads/2023/02/23144840/wine-safari-.png
CATEGORIES:Wine Events
LOCATION:Donati Family Vineyard\, 2720 Oak View rd\, Templeton \, CA\, 9346
 5\, United States
GEO:35.552964;-120.759631
X-APPLE-STRUCTURED-LOCATION;VALUE=URI;X-ADDRESS=2720 Oak View rd\, Templeto
 n \, CA\, 93465\, United States;X-APPLE-RADIUS=100;X-TITLE=Donati Family V
 ineyard:geo:35.552964,-120.759631
END:VEVENT
BEGIN:VTIMEZONE
TZID:America/Los_Angeles
X-LIC-LOCATION:America/Los_Angeles
BEGIN:STANDARD
DTSTART:20221106T010000
TZOFFSETFROM:-0700
TZOFFSETTO:-0800
TZNAME:PST
END:STANDARD
END:VTIMEZONE
END:VCALENDAR