BEGIN:VCALENDAR
VERSION:2.0
PRODID:-//wp-events-plugin.com//7.2.3.1//EN
TZID:America/Los_Angeles
X-WR-TIMEZONE:America/Los_Angeles
BEGIN:VEVENT
UID:6141@pasorobleswineries.net
DTSTART;TZID=America/Los_Angeles:20240426T120000
DTEND;TZID=America/Los_Angeles:20240427T150000
DTSTAMP:20240206T172245Z
URL:https://pasorobleswineries.net/paso-robles-events/wine-and-food-paired
 -flight-2-2024-04-26/
SUMMARY:Wine and Food Paired Flight
DESCRIPTION:We invite you to enjoy a three-course food and wine pairing exp
 erience featuring our Paso Robles Estate wines and food pairings created a
 nd prepared by Ethan Ray and Cecily Parrish Ray. From our family to yours.
 \n\nCurrent Paired Flight:\n2022 Sauvignon Blanc with Seared Scallops\n201
 8 Silken with Moroccan Lamb and Saffron Couscous\n2019 Late Harvest Sauvig
 non Blanc with Tropical S'more\n\n*Experience Available Fridays from 12-3p
 m (top of every hour).\n*Pre-Paid\, Reservation Only Experience.\n*No Food
  Substitutions for this experience.
ATTACH;FMTTYPE=image/jpeg:https://prw-media.s3.us-west-1.amazonaws.com/wp-
 content/uploads/2024/01/31154859/Paired-Flight.jpg
CATEGORIES:Wine Events
LOCATION:Parrish Family Vineyard\, 3590 Adelaida Road\, Paso Robles\, CA\, 
 93446\, United States
X-APPLE-STRUCTURED-LOCATION;VALUE=URI;X-ADDRESS=3590 Adelaida Road\, Paso R
 obles\, CA\, 93446\, United States;X-APPLE-RADIUS=100;X-TITLE=Parrish Fami
 ly Vineyard:geo:0,0
END:VEVENT
BEGIN:VTIMEZONE
TZID:America/Los_Angeles
X-LIC-LOCATION:America/Los_Angeles
BEGIN:DAYLIGHT
DTSTART:20240310T030000
TZOFFSETFROM:-0800
TZOFFSETTO:-0700
TZNAME:PDT
END:DAYLIGHT
END:VTIMEZONE
END:VCALENDAR