BEGIN:VCALENDAR
VERSION:2.0
PRODID:-//wp-events-plugin.com//7.2.3.1//EN
TZID:America/Los_Angeles
X-WR-TIMEZONE:America/Los_Angeles
BEGIN:VEVENT
UID:2508@pasorobleswineries.net
DTSTART;TZID=America/Los_Angeles;VALUE=DATE:20210213
DTEND;TZID=America/Los_Angeles;VALUE=DATE:20210215
DTSTAMP:20210209T201954Z
URL:https://pasorobleswineries.net/paso-robles-events/virtual-wine-tasting
 -2-2021-02-13/
SUMMARY:Virtual Wine Tasting
DESCRIPTION:Let us bring the wine to you! Enjoy wine tasting-home edition w
 hile our owner\, Ted\, guides you through your tasting via Zoom. We will s
 hip wine to each guest's address and provide the virtual invite link\, so 
 all you need to do is sit back and sip away!\n\nContact for availability\n
 privateevents@casswines.com\n805.239.1730 x122\n
ATTACH;FMTTYPE=image/jpeg:https://prw-media.s3.us-west-1.amazonaws.com/wp-
 content/uploads/2021/02/23151615/Copy-of-Private-Virtual-Tasting-PDF.png
CATEGORIES:Vertical Wine Tastings
LOCATION:CASS Winery | ZOOM\, 7350 Linne Road\, Paso Robles\, CA\, 93446\, 
 United States\, United States
GEO:35.5977138;-120.5648305
X-APPLE-STRUCTURED-LOCATION;VALUE=URI;X-ADDRESS=7350 Linne Road\, Paso Robl
 es\, CA\, 93446\, United States\, United States;X-APPLE-RADIUS=100;X-TITLE
 =CASS Winery | ZOOM:geo:35.5977138,-120.5648305
END:VEVENT
BEGIN:VTIMEZONE
TZID:America/Los_Angeles
X-LIC-LOCATION:America/Los_Angeles
BEGIN:STANDARD
DTSTART:20201101T010000
TZOFFSETFROM:-0700
TZOFFSETTO:-0800
TZNAME:PST
END:STANDARD
END:VTIMEZONE
END:VCALENDAR