BEGIN:VCALENDAR
VERSION:2.0
PRODID:-//wp-events-plugin.com//7.2.3.1//EN
TZID:America/Los_Angeles
X-WR-TIMEZONE:America/Los_Angeles
BEGIN:VEVENT
UID:6965@pasorobleswineries.net
DTSTART;TZID=America/Los_Angeles:20251017T180000
DTEND;TZID=America/Los_Angeles:20251017T190000
DTSTAMP:20250818T231948Z
URL:https://pasorobleswineries.net/paso-robles-events/under-the-harvest-mo
 on-winemakers-dinner/
SUMMARY:Under the Harvest Moon Winemaker’s Dinner
DESCRIPTION:Join Dresser Winery on Friday\, October 17th\, Under the Harves
 t Moon for this intimate and magical winemaker's dinner at the Dresser Win
 ery Barrel Room. Surrounded by vines and oak trees\, we'll enjoy an amazin
 gly paired dinner featuring Chef Ryan Swarthout and Dresser Wines enjoying
  the amazing sunset and lighting throughout. Members receive a 10% discoun
 t on two tickets (must be signed in). Grab your Early Bird tickets before 
 the price increases in September!\n\nMenu to be release soon!\n\nGet your 
 tickets!
ATTACH;FMTTYPE=image/jpeg:https://prw-media.s3.us-west-1.amazonaws.com/wp-
 content/uploads/2025/08/18161436/Dresser-WInery-Under-the-Harvest-Moon-Win
 emakers-Dinner.avif
CATEGORIES:Harvest Wine Month,Winemaker's Dinners
LOCATION:Dresser Winery\, 5530 Dresser Ranch Place\, Paso Robles\, Californ
 ia\, United States
GEO:35.606465;-120.59293
X-APPLE-STRUCTURED-LOCATION;VALUE=URI;X-ADDRESS=5530 Dresser Ranch Place\, 
 Paso Robles\, California\, United States;X-APPLE-RADIUS=100;X-TITLE=Dresse
 r Winery:geo:35.606465,-120.59293
END:VEVENT
BEGIN:VTIMEZONE
TZID:America/Los_Angeles
X-LIC-LOCATION:America/Los_Angeles
BEGIN:DAYLIGHT
DTSTART:20250309T030000
TZOFFSETFROM:-0800
TZOFFSETTO:-0700
TZNAME:PDT
END:DAYLIGHT
END:VTIMEZONE
END:VCALENDAR