BEGIN:VCALENDAR
VERSION:2.0
PRODID:-//wp-events-plugin.com//7.2.3.1//EN
TZID:America/Los_Angeles
X-WR-TIMEZONE:America/Los_Angeles
BEGIN:VEVENT
UID:2409@pasorobleswineries.net
DTSTART;TZID=America/Los_Angeles:20210201T190000
DTEND;TZID=America/Los_Angeles:20210201T200000
DTSTAMP:20210202T035443Z
URL:https://pasorobleswineries.net/paso-robles-events/test-event-2/
SUMMARY:Test Event
DESCRIPTION:set-up user account\, generated password\, listed event
CATEGORIES:Live Music
LOCATION:my house\, 840 Climbing Tree Lane\, Templeton\, California\, 93465
 \, United States
GEO:35.573209;-120.641089
X-APPLE-STRUCTURED-LOCATION;VALUE=URI;X-ADDRESS=840 Climbing Tree Lane\, Te
 mpleton\, California\, 93465\, United States;X-APPLE-RADIUS=100;X-TITLE=my
  house:geo:35.573209,-120.641089
END:VEVENT
BEGIN:VTIMEZONE
TZID:America/Los_Angeles
X-LIC-LOCATION:America/Los_Angeles
BEGIN:STANDARD
DTSTART:20201101T010000
TZOFFSETFROM:-0700
TZOFFSETTO:-0800
TZNAME:PST
END:STANDARD
END:VTIMEZONE
END:VCALENDAR