BEGIN:VCALENDAR
VERSION:2.0
PRODID:-//wp-events-plugin.com//7.2.3.1//EN
TZID:America/Los_Angeles
X-WR-TIMEZONE:America/Los_Angeles
BEGIN:VEVENT
UID:90@pasorobleswineries.net
DTSTART;TZID=America/Los_Angeles:20180812T130000
DTEND;TZID=America/Los_Angeles:20180812T160000
DTSTAMP:20180904T213114Z
URL:https://pasorobleswineries.net/paso-robles-events/songwriters-at-play-
 at-sculpterra-winery-2018-08-12/
SUMMARY:"Songwriters at Play" at Sculpterra Winery
DESCRIPTION:Steve Key Present's "Songwriters at Play" at Sculpterra Winery\
 n\nA weekly concert in our sculpture garden. The live music takes place ev
 ery Sunday afternoon from 1:00-4:00pm.\n\nLunch is available to purchase f
 rom Templeton Greek Food and Pizza.\n\nFor more information call 805-226-8
 881 or visit www.songwritersatplay.com
ATTACH;FMTTYPE=image/jpeg:https://prw-media.s3.us-west-1.amazonaws.com/wp-
 content/uploads/2018/08/23154328/JuneMusicAd_v2.jpg
CATEGORIES:Live Music
LOCATION:Sculpterra Winery and Sculpture Garden\, 5015 Linne Rd.\, Paso Rob
 les\, CA\, 93446\, Paso Robles\, United States
GEO:35.6005681;-120.6105958
X-APPLE-STRUCTURED-LOCATION;VALUE=URI;X-ADDRESS=5015 Linne Rd.\, Paso Roble
 s\, CA\, 93446\, Paso Robles\, United States;X-APPLE-RADIUS=100;X-TITLE=Sc
 ulpterra Winery and Sculpture Garden:geo:35.6005681,-120.6105958
END:VEVENT
BEGIN:VTIMEZONE
TZID:America/Los_Angeles
X-LIC-LOCATION:America/Los_Angeles
BEGIN:DAYLIGHT
DTSTART:20180311T030000
TZOFFSETFROM:-0800
TZOFFSETTO:-0700
TZNAME:PDT
END:DAYLIGHT
END:VTIMEZONE
END:VCALENDAR