BEGIN:VCALENDAR
VERSION:2.0
PRODID:-//wp-events-plugin.com//7.2.3.1//EN
TZID:America/Los_Angeles
X-WR-TIMEZONE:America/Los_Angeles
BEGIN:VEVENT
UID:3751@pasorobleswineries.net
DTSTART;TZID=America/Los_Angeles:20220430T110000
DTEND;TZID=America/Los_Angeles:20220430T130000
DTSTAMP:20220202T170416Z
URL:https://pasorobleswineries.net/paso-robles-events/pelletiere-estate-vi
 ntner-vines-tour-and-tasting-2022-04-30/
SUMMARY:Pelletiere Estate Vintner & Vines Tour and Tasting
DESCRIPTION:Deep in the willow creek district of Paso Robles\, discover dis
 tinctive Italian wines unique to Pelletiere Estate by walking with our vin
 tner\, Janis Denner\, as she explains the process involved in making limit
 ed production Italian style wines. Learn about the heritage of Italian gra
 pe growing and origins of Pelletiere Estate's rare Italian varieties\, com
 pare old world and new world approaches to winemaking\, and discuss Paso R
 obles' unique micro-climate. Then experience these exceptional wines first
  hand with a guided tasting. $50/pp\, reservations required.
CATEGORIES:Wine Events
LOCATION:Pelletiere Estate Vineyard &amp\; Winery\, 3280 Township Road\, Pa
 so Robles\, CA\, 93446\, United States
GEO:35.569317;-120.75518
X-APPLE-STRUCTURED-LOCATION;VALUE=URI;X-ADDRESS=3280 Township Road\, Paso R
 obles\, CA\, 93446\, United States;X-APPLE-RADIUS=100;X-TITLE=Pelletiere E
 state Vineyard & Winery:geo:35.569317,-120.75518
END:VEVENT
BEGIN:VTIMEZONE
TZID:America/Los_Angeles
X-LIC-LOCATION:America/Los_Angeles
BEGIN:DAYLIGHT
DTSTART:20220313T030000
TZOFFSETFROM:-0800
TZOFFSETTO:-0700
TZNAME:PDT
END:DAYLIGHT
END:VTIMEZONE
END:VCALENDAR