BEGIN:VCALENDAR
VERSION:2.0
PRODID:-//wp-events-plugin.com//7.2.3.1//EN
TZID:America/Los_Angeles
X-WR-TIMEZONE:America/Los_Angeles
BEGIN:VEVENT
UID:7507@pasorobleswineries.net
DTSTART;TZID=America/Los_Angeles:20260321T130000
DTEND;TZID=America/Los_Angeles:20260321T160000
DTSTAMP:20260224T214521Z
URL:https://pasorobleswineries.net/paso-robles-events/opening-day-at-dress
 er-winery/
SUMMARY:Opening Day at Dresser Winery
DESCRIPTION:Join us Saturday\, March 21st\, for Opening Day at Dresser Wine
 ry from from 1-4pm. We’re taking a page from Kory’s first career in Ma
 jor League Baseball\, and declaring the 2026 wine season open! Enjoy music
  and taste through a flight of our soon-to-be released Spring wines while 
 enjoying elevated wine and ballpark friendly bites. Members and Non-Member
 s are welcome from 1-4pm. Members receive 2 comped tickets and non-members
  and guests are welcome to join for $40 per person which includes all wine
 \, food\, etc.\n\nSaturday\, March 21st\, 1-4pm.\n\nSorry\, no pups allowe
 d for events.
ATTACH;FMTTYPE=image/jpeg:https://prw-media.s3.us-west-1.amazonaws.com/wp-
 content/uploads/2026/02/24134422/Dresser-Winery-Opening-Day-Ticket-Design.
 webp
CATEGORIES:Wine Events
LOCATION:Dresser Winery\, 5530 Dresser Ranch Place\, Paso Robles\, Californ
 ia\, United States
GEO:35.606465;-120.59293
X-APPLE-STRUCTURED-LOCATION;VALUE=URI;X-ADDRESS=5530 Dresser Ranch Place\, 
 Paso Robles\, California\, United States;X-APPLE-RADIUS=100;X-TITLE=Dresse
 r Winery:geo:35.606465,-120.59293
END:VEVENT
BEGIN:VTIMEZONE
TZID:America/Los_Angeles
X-LIC-LOCATION:America/Los_Angeles
BEGIN:DAYLIGHT
DTSTART:20260308T030000
TZOFFSETFROM:-0800
TZOFFSETTO:-0700
TZNAME:PDT
END:DAYLIGHT
END:VTIMEZONE
END:VCALENDAR