BEGIN:VCALENDAR
VERSION:2.0
PRODID:-//wp-events-plugin.com//7.2.3.1//EN
TZID:America/Los_Angeles
X-WR-TIMEZONE:America/Los_Angeles
BEGIN:VEVENT
UID:7564@pasorobleswineries.net
DTSTART;TZID=America/Los_Angeles:20260801T200000
DTEND;TZID=America/Los_Angeles:20260801T200000
DTSTAMP:20260415T194709Z
URL:https://pasorobleswineries.net/paso-robles-events/los-lobos-los-lonely
 -boys-paso-robles/
SUMMARY:Los Lobos &amp\; Los Lonely Boys - Paso Robles
DESCRIPTION:Paso Robles\, get ready to welcome Los Lobos to the Vina Robles
  Amphitheater—one of the Central Coast’s go-to spots for a memorable n
 ight out. On Saturday\, August 1\, 2026 at 8:00 PM\, the city turns into a
  hometown dance floor for Latin-rooted rock and soul.\n\nLos Lobos bring a
  rare mix of streetwise storytelling\, tight musicianship\, and deep Chica
 no heritage\, where every groove feels earned and every lyric lands. Expec
 t a set that moves effortlessly from raw rock to Tex-Mex rhythms.\n\nSet a
 gainst vineyard views\, the amphitheater offers easy arrivals\, great sigh
 tlines\, and that open-air Paso Robles breeze that makes summer shows shin
 e. It’s the perfect backdrop for Los Lobos &amp\; Los Lonely Boys - Paso
  Robles Vina Robles Amphitheater.\n\nMake your plans now for Los Lobos &am
 p\; Los Lonely Boys - Paso Robles Paso Robles—grab your tickets\, bring 
 your friends\, and come sing along under the stars.
ATTACH;FMTTYPE=image/jpeg:https://prw-media.s3.us-west-1.amazonaws.com/wp-
 content/uploads/2026/04/15102102/Los-Lobos.jpg
CATEGORIES:Live Music
LOCATION:Vina Robles Amphitheater\, 3800 Mill Rd\, Paso Robles\, CA\, 93446
 \, United States
X-APPLE-STRUCTURED-LOCATION;VALUE=URI;X-ADDRESS=3800 Mill Rd\, Paso Robles\
 , CA\, 93446\, United States;X-APPLE-RADIUS=100;X-TITLE=Vina Robles Amphit
 heater:geo:0,0
END:VEVENT
BEGIN:VTIMEZONE
TZID:America/Los_Angeles
X-LIC-LOCATION:America/Los_Angeles
BEGIN:DAYLIGHT
DTSTART:20260308T030000
TZOFFSETFROM:-0800
TZOFFSETTO:-0700
TZNAME:PDT
END:DAYLIGHT
END:VTIMEZONE
END:VCALENDAR