BEGIN:VCALENDAR
VERSION:2.0
PRODID:-//wp-events-plugin.com//7.2.3.1//EN
TZID:America/Los_Angeles
X-WR-TIMEZONE:America/Los_Angeles
BEGIN:VEVENT
UID:155@pasorobleswineries.net
DTSTART;TZID=America/Los_Angeles:20180901T133000
DTEND;TZID=America/Los_Angeles:20180901T163000
DTSTAMP:20180831T164008Z
URL:https://pasorobleswineries.net/paso-robles-events/live-music-blimp-pil
 ots-parrish-family-vineyards-new-tasting-room/
SUMMARY:LIVE MUSIC: BLIMP PILOTS @ PARRISH FAMILY VINEYARDS NEW TASTING ROO
 M
DESCRIPTION:Join Parrish Family Vineyard in their new tasting room for a La
 bor Day celebration with live music and amazing wines from their Estate Vi
 neyards. The Blimp Pilots will be playing classic rock hits on the patio f
 rom 1:30 - 4:30. The weather is forecasted to be in the perfect 80's and t
 he gorgeous setting nestled in their rolling vineyards is a sure environme
 nt for relaxation and fun! Trust us... you'll want to stay awhile so be su
 re to snag a spot on the patio for front row seats and vineyard views. Enj
 oy!
ATTACH;FMTTYPE=image/jpeg:https://prw-media.s3.us-west-1.amazonaws.com/wp-
 content/uploads/2018/08/23154206/Screen-Shot-2018-08-30-at-5.28.13-PM.png
CATEGORIES:Live Music
LOCATION:Parrish Family Vineyard\, 3590 Adelaide Rd\, Paso Robles\, CA\, 93
 446\, United States
GEO:35.659244;-120.76005600000002
X-APPLE-STRUCTURED-LOCATION;VALUE=URI;X-ADDRESS=3590 Adelaide Rd\, Paso Rob
 les\, CA\, 93446\, United States;X-APPLE-RADIUS=100;X-TITLE=Parrish Family
  Vineyard:geo:35.659244,-120.76005600000002
END:VEVENT
BEGIN:VTIMEZONE
TZID:America/Los_Angeles
X-LIC-LOCATION:America/Los_Angeles
BEGIN:DAYLIGHT
DTSTART:20180311T030000
TZOFFSETFROM:-0800
TZOFFSETTO:-0700
TZNAME:PDT
END:DAYLIGHT
END:VTIMEZONE
END:VCALENDAR