BEGIN:VCALENDAR
VERSION:2.0
PRODID:-//wp-events-plugin.com//7.2.3.1//EN
TZID:America/Los_Angeles
X-WR-TIMEZONE:America/Los_Angeles
BEGIN:VEVENT
UID:3552@pasorobleswineries.net
DTSTART;TZID=America/Los_Angeles:20210820T173000
DTEND;TZID=America/Los_Angeles:20210820T193000
DTSTAMP:20210728T164331Z
URL:https://pasorobleswineries.net/paso-robles-events/live-from-paso-with-
 the-travis-brooks-band/
SUMMARY:Live From Paso with the Travis Brooks Band
DESCRIPTION:The Travis Brooks Band will be performing on the patio for our 
 guests. Enjoy this singer/songwriter violinist while you sip a glass of wi
 ne and enjoy a bite from the kitchen. 
ATTACH;FMTTYPE=image/jpeg:https://prw-media.s3.us-west-1.amazonaws.com/wp-
 content/uploads/2021/07/23150942/Travis-brooks-300x300-1.jpg
CATEGORIES:Live Music
LOCATION:Robert Hall Winery\, 3443 Mill Road\, Paso Robles\, CA\, 93446\, S
 an Luis Obispo County\, United States
GEO:35.6438969;-120.63343889999999
X-APPLE-STRUCTURED-LOCATION;VALUE=URI;X-ADDRESS=3443 Mill Road\, Paso Roble
 s\, CA\, 93446\, San Luis Obispo County\, United States;X-APPLE-RADIUS=100
 ;X-TITLE=Robert Hall Winery:geo:35.6438969,-120.63343889999999
END:VEVENT
BEGIN:VTIMEZONE
TZID:America/Los_Angeles
X-LIC-LOCATION:America/Los_Angeles
BEGIN:DAYLIGHT
DTSTART:20210314T030000
TZOFFSETFROM:-0800
TZOFFSETTO:-0700
TZNAME:PDT
END:DAYLIGHT
END:VTIMEZONE
END:VCALENDAR