BEGIN:VCALENDAR
VERSION:2.0
PRODID:-//wp-events-plugin.com//7.2.3.1//EN
TZID:America/Los_Angeles
X-WR-TIMEZONE:America/Los_Angeles
BEGIN:VEVENT
UID:7029@pasorobleswineries.net
DTSTART;TZID=America/Los_Angeles:20251003T160000
DTEND;TZID=America/Los_Angeles:20251031T180000
DTSTAMP:20250930T183110Z
URL:https://pasorobleswineries.net/paso-robles-events/harvest-wine-month-f
 riday-happy-hours/
SUMMARY:Harvest Wine Month Friday Happy Hours
DESCRIPTION:Join us during Harvest Wine Month in October for Friday Happy H
 ours! We will be open late on Fridays in October\, as our team pours your 
 old favorites and new releases.\n\nWe will offer tasting flights until 4pm
 \, and then only wines by the glass or bottle from 4-6pm. We’ll also hav
 e a complimentary snack and live music by Greg Howitt.\n\nWe can’t wait 
 to see you!
ATTACH;FMTTYPE=image/jpeg:https://prw-media.s3.us-west-1.amazonaws.com/wp-
 content/uploads/2025/09/30113030/Happy-Hours-sm.jpg
CATEGORIES:Harvest Wine Month,Wine Events
LOCATION:Four Lanterns Winery\, 2485 West Highway 46\, Paso Robles\, CA\, 9
 3446\, United States
GEO:35.56935199999999;-120.73864070000002
X-APPLE-STRUCTURED-LOCATION;VALUE=URI;X-ADDRESS=2485 West Highway 46\, Paso
  Robles\, CA\, 93446\, United States;X-APPLE-RADIUS=100;X-TITLE=Four Lante
 rns Winery:geo:35.56935199999999,-120.73864070000002
END:VEVENT
BEGIN:VTIMEZONE
TZID:America/Los_Angeles
X-LIC-LOCATION:America/Los_Angeles
BEGIN:DAYLIGHT
DTSTART:20250309T030000
TZOFFSETFROM:-0800
TZOFFSETTO:-0700
TZNAME:PDT
END:DAYLIGHT
END:VTIMEZONE
END:VCALENDAR