BEGIN:VCALENDAR
VERSION:2.0
PRODID:-//wp-events-plugin.com//7.2.3.1//EN
TZID:America/Los_Angeles
X-WR-TIMEZONE:America/Los_Angeles
BEGIN:VEVENT
UID:6971@pasorobleswineries.net
DTSTART;TZID=America/Los_Angeles:20251025T173000
DTEND;TZID=America/Los_Angeles:20251025T213000
DTSTAMP:20250819T032558Z
URL:https://pasorobleswineries.net/paso-robles-events/halter-ranch-estate-
 annual-ancestor-dinner/
SUMMARY:Halter Ranch Estate: Annual Ancestor Dinner
DESCRIPTION:Celebrate the evening with our winemaker\, Kevin Sass\, as we h
 onor our flagship wine\, Ancestor.\n\nTickets go on sale at 9AM PST\, Thur
 sday\, September 25th\n\nGet notified
ATTACH;FMTTYPE=image/jpeg:https://prw-media.s3.us-west-1.amazonaws.com/wp-
 content/uploads/2023/02/23144812/Halter-Ranch-Barrel-Tasting.jpg
CATEGORIES:Harvest Wine Month,Winemaker's Dinners
LOCATION:Halter Ranch\, 8910 Adelaida Road\, Paso Robles\, CA\, 93446\, Uni
 ted States
X-APPLE-STRUCTURED-LOCATION;VALUE=URI;X-ADDRESS=8910 Adelaida Road\, Paso R
 obles\, CA\, 93446\, United States;X-APPLE-RADIUS=100;X-TITLE=Halter Ranch
 :geo:0,0
END:VEVENT
BEGIN:VTIMEZONE
TZID:America/Los_Angeles
X-LIC-LOCATION:America/Los_Angeles
BEGIN:DAYLIGHT
DTSTART:20250309T030000
TZOFFSETFROM:-0800
TZOFFSETTO:-0700
TZNAME:PDT
END:DAYLIGHT
END:VTIMEZONE
END:VCALENDAR