BEGIN:VCALENDAR
VERSION:2.0
PRODID:-//wp-events-plugin.com//7.2.3.1//EN
TZID:America/Los_Angeles
X-WR-TIMEZONE:America/Los_Angeles
BEGIN:VEVENT
UID:170@pasorobleswineries.net
DTSTART;TZID=America/Los_Angeles:20181005T173000
DTEND;TZID=America/Los_Angeles:20181005T200000
DTSTAMP:20180927T235200Z
URL:https://pasorobleswineries.net/paso-robles-events/friday-night-music-n
 ight-at-pear-valley-estate-wine/
SUMMARY:Friday Night Music Night at Pear Valley Estate Wine
DESCRIPTION:Bring your friends and join us for our complimentary music nigh
 t at Pear Valley Estate Winery on Friday October 5th\, 5:30-8pm with live 
 music by Bear Market Riot. Pear Valley wine is available for purchase by t
 he glass or bottle and food is for sale by The Railroad BBQ. All are welco
 me and we have plenty of room both inside and out.
ATTACH;FMTTYPE=image/jpeg:https://prw-media.s3.us-west-1.amazonaws.com/wp-
 content/uploads/2018/09/23154032/Bear_Market_Riot_highres.jpg
CATEGORIES:Live Music
LOCATION:Pear Valley Estate Wine\, 4900 Union Road\, Paso Robles\, CA\, 934
 46\, United States
GEO:35.636513;-120.608093
X-APPLE-STRUCTURED-LOCATION;VALUE=URI;X-ADDRESS=4900 Union Road\, Paso Robl
 es\, CA\, 93446\, United States;X-APPLE-RADIUS=100;X-TITLE=Pear Valley Est
 ate Wine:geo:35.636513,-120.608093
END:VEVENT
BEGIN:VTIMEZONE
TZID:America/Los_Angeles
X-LIC-LOCATION:America/Los_Angeles
BEGIN:DAYLIGHT
DTSTART:20180311T030000
TZOFFSETFROM:-0800
TZOFFSETTO:-0700
TZNAME:PDT
END:DAYLIGHT
END:VTIMEZONE
END:VCALENDAR