BEGIN:VCALENDAR
VERSION:2.0
PRODID:-//wp-events-plugin.com//7.2.3.1//EN
TZID:America/Los_Angeles
X-WR-TIMEZONE:America/Los_Angeles
BEGIN:VEVENT
UID:6746@pasorobleswineries.net
DTSTART;TZID=America/Los_Angeles:20251003T100000
DTEND;TZID=America/Los_Angeles:20251003T120000
DTSTAMP:20250818T232529Z
URL:https://pasorobleswineries.net/paso-robles-events/e-bike-vineyard-tour
 -at-margarita-ranch-ancient-peaks-2025-10-03/
SUMMARY:e-Bike Vineyard Tour at Margarita Ranch & Ancient Peaks
DESCRIPTION:Take a scenic e-Bike ride into the crown jewel of the Central C
 oast—the historic Santa Margarita Ranch\, home of Ancient Peaks Winery
 ’s estate Margarita Vineyard.\n\nExperience the stunning natural beauty 
 of this private rancho\, which combines sustainable winegrowing with histo
 ry and adventure. Out on the ranch\, you will wind through the vines to le
 arn about our sustainable winegrowing practices as well as the land’s un
 ique geology and abundant native wildlife.\n\nYou will also enjoy a taste 
 of two Ancient Peaks wines from the vines that surround you. Don’t miss 
 this exciting and educational 2-hour excursion into the crown jewel of Cal
 ifornia’s Central Coast.
ATTACH;FMTTYPE=image/jpeg:https://prw-media.s3.us-west-1.amazonaws.com/wp-
 content/uploads/2023/10/11195620/group-on-bikes.jpeg
CATEGORIES:Harvest Wine Month,Wine Events
LOCATION:Margarita Advenutures\, 22719 El Camino Real\, Santa Margarita\, C
 alifornia\, 93453\, United States
GEO:35.388494;-120.612918
X-APPLE-STRUCTURED-LOCATION;VALUE=URI;X-ADDRESS=22719 El Camino Real\, Sant
 a Margarita\, California\, 93453\, United States;X-APPLE-RADIUS=100;X-TITL
 E=Margarita Advenutures:geo:35.388494,-120.612918
END:VEVENT
BEGIN:VTIMEZONE
TZID:America/Los_Angeles
X-LIC-LOCATION:America/Los_Angeles
BEGIN:DAYLIGHT
DTSTART:20250309T030000
TZOFFSETFROM:-0800
TZOFFSETTO:-0700
TZNAME:PDT
END:DAYLIGHT
END:VTIMEZONE
END:VCALENDAR