BEGIN:VCALENDAR
VERSION:2.0
PRODID:-//wp-events-plugin.com//7.2.3.1//EN
TZID:America/Los_Angeles
X-WR-TIMEZONE:America/Los_Angeles
BEGIN:VEVENT
UID:5101@pasorobleswineries.net
DTSTART;TZID=America/Los_Angeles:20230531T103000
DTEND;TZID=America/Los_Angeles:20230531T050000
DTSTAMP:20230413T204320Z
URL:https://pasorobleswineries.net/paso-robles-events/complimentary-cheese
 -pairing-with-your-paid-wine-tasting-2023-05-31/
SUMMARY:Complimentary cheese pairing with your paid wine tasting!
DESCRIPTION:We invite you to taste our world-class Pinot Noir that is paire
 d complementary with artisan cheeses each Wednesday. We are open 10:30am t
 o 5:00pm and are located at 1380 Love Oak Rd\, before Austin Hope (Hope Fa
 mily Vineyards). More info
CATEGORIES:Wine Events
LOCATION:Windward Vineyard\, 1380 Live Oak Rd\, Paso Robles\, CA\, 93446\, 
 United States
GEO:35.589635;-120.715805
X-APPLE-STRUCTURED-LOCATION;VALUE=URI;X-ADDRESS=1380 Live Oak Rd\, Paso Rob
 les\, CA\, 93446\, United States;X-APPLE-RADIUS=100;X-TITLE=Windward Viney
 ard:geo:35.589635,-120.715805
END:VEVENT
BEGIN:VTIMEZONE
TZID:America/Los_Angeles
X-LIC-LOCATION:America/Los_Angeles
BEGIN:DAYLIGHT
DTSTART:20230312T030000
TZOFFSETFROM:-0800
TZOFFSETTO:-0700
TZNAME:PDT
END:DAYLIGHT
END:VTIMEZONE
END:VCALENDAR