BEGIN:VCALENDAR
VERSION:2.0
PRODID:-//wp-events-plugin.com//7.2.3.1//EN
TZID:America/Los_Angeles
X-WR-TIMEZONE:America/Los_Angeles
BEGIN:VEVENT
UID:532@pasorobleswineries.net
DTSTART;TZID=America/Los_Angeles:20191122T183000
DTEND;TZID=America/Los_Angeles:20191122T200000
DTSTAMP:20191022T191841Z
URL:https://pasorobleswineries.net/paso-robles-events/cigar-wine-pairing-a
 t-parrish-family-vineyard/
SUMMARY:Cigar &amp\; Wine Pairing at Parrish Family Vineyard
DESCRIPTION:It was so much fun that we're doing it again!\n\nMark your cale
 ndars for Friday\, November 22nd as we host a wine &amp\; cigar pairing ni
 ght. The owner of The Sanctuary in San Luis Obispo will join us with a sel
 ection of high-end cigars to smoke on-site or take home with you.\n\nTicke
 ts are $25 and include a glass of wine of your choosing and a decadent des
 sert made by Estate Chef Rachel Ponce. Cigars can be purchased individuall
 y.\n\nJoin us from 6:30pm-8:00pm. Click here to purchase your tickets!\n\n
 For quick\, easy mapping and directions including one click to hail an UBE
 R or Lyft driver\, click here.
ATTACH;FMTTYPE=image/jpeg:https://prw-media.s3.us-west-1.amazonaws.com/wp-
 content/uploads/2019/09/23152933/cigars-paso-wineries.jpg
CATEGORIES:Wine Events
LOCATION:Parrish Family Vineyard\, 3590 Adelaida Rd\, Paso Robles\, CA\, 93
 446-9781\, United States
GEO:35.6564814;-120.7571815
X-APPLE-STRUCTURED-LOCATION;VALUE=URI;X-ADDRESS=3590 Adelaida Rd\, Paso Rob
 les\, CA\, 93446-9781\, United States;X-APPLE-RADIUS=100;X-TITLE=Parrish F
 amily Vineyard:geo:35.6564814,-120.7571815
END:VEVENT
BEGIN:VTIMEZONE
TZID:America/Los_Angeles
X-LIC-LOCATION:America/Los_Angeles
BEGIN:STANDARD
DTSTART:20191103T010000
TZOFFSETFROM:-0700
TZOFFSETTO:-0800
TZNAME:PST
END:STANDARD
END:VTIMEZONE
END:VCALENDAR