BEGIN:VCALENDAR
VERSION:2.0
PRODID:-//wp-events-plugin.com//7.2.3.1//EN
TZID:America/Los_Angeles
X-WR-TIMEZONE:America/Los_Angeles
BEGIN:VEVENT
UID:7496@pasorobleswineries.net
DTSTART;TZID=America/Los_Angeles:20260509T150000
DTEND;TZID=America/Los_Angeles:20260509T170000
DTSTAMP:20260219T033820Z
URL:https://pasorobleswineries.net/paso-robles-events/camp-cass-sip-paint-
 watercolor-note-cards/
SUMMARY:Camp CASS: Sip & Paint Watercolor Note Cards
DESCRIPTION:Watercolor is a medium of opposites. The incredible precision n
 eeded for detail work is delightfully offset by the loose creativity of te
 xture and free flowing techniques. Enjoy this sip n’ paint class that wi
 ll allow you to walk in that same diversity. Flex your creative muscles wh
 ile you make a set of practical notecards for gifting or using yourself.\n
 \nLearn more
ATTACH;FMTTYPE=image/jpeg:https://prw-media.s3.us-west-1.amazonaws.com/wp-
 content/uploads/2025/06/18101617/Paint-Sip-Experienc-300-x-300-px.png
CATEGORIES:Art Workshops
LOCATION:Cass Winery\, 7350 Linne Rd\, Paso Robles\, California\, 93446\, U
 nited States
GEO:35.5977138;-120.56483049999997
X-APPLE-STRUCTURED-LOCATION;VALUE=URI;X-ADDRESS=7350 Linne Rd\, Paso Robles
 \, California\, 93446\, United States;X-APPLE-RADIUS=100;X-TITLE=Cass Wine
 ry:geo:35.5977138,-120.56483049999997
END:VEVENT
BEGIN:VTIMEZONE
TZID:America/Los_Angeles
X-LIC-LOCATION:America/Los_Angeles
BEGIN:DAYLIGHT
DTSTART:20260308T030000
TZOFFSETFROM:-0800
TZOFFSETTO:-0700
TZNAME:PDT
END:DAYLIGHT
END:VTIMEZONE
END:VCALENDAR