BEGIN:VCALENDAR
VERSION:2.0
PRODID:-//wp-events-plugin.com//7.2.3.1//EN
TZID:America/Los_Angeles
X-WR-TIMEZONE:America/Los_Angeles
BEGIN:VEVENT
UID:7497@pasorobleswineries.net
DTSTART;TZID=America/Los_Angeles:20260411T103000
DTEND;TZID=America/Los_Angeles:20260411T123000
DTSTAMP:20260224T192752Z
URL:https://pasorobleswineries.net/paso-robles-events/art-of-blending/
SUMMARY:Art of Blending
DESCRIPTION:Become a winemaker for the day and discover how great blends co
 me to life with the Art of Blending! This hands-on session will walk you t
 hrough the blending process step by step with our Winemakers\, offering an
  engaging and educational look into the craft of winemaking.\n\nSaturday\,
  April 11th\, 2026\n10:30 am - 12:30 pm\nat Parrish Family Vineyard Winery
 \n\n$150 per Guest\n$125 per Club Member\n\nTICKETS\n\n 	What's Included:\
 n 	Wine Tasting\n 	Guided Blending Session\n 	Blend Your Own Wine\n 	One 7
 50mL Bottle of Your Custom Blend\n 	Lite Bites\n
ATTACH;FMTTYPE=image/jpeg:https://prw-media.s3.us-west-1.amazonaws.com/wp-
 content/uploads/2026/02/24112335/artofblending_parrishfamilyvineayrd.jpg
CATEGORIES:Wine Events
LOCATION:Parrish Family Vineyard\, 3590 Adelaida Road \, Paso Robles\, Cali
 fornia\, 93446\, United States
GEO:35.659244;-120.76005600000002
X-APPLE-STRUCTURED-LOCATION;VALUE=URI;X-ADDRESS=3590 Adelaida Road \, Paso 
 Robles\, California\, 93446\, United States;X-APPLE-RADIUS=100;X-TITLE=Par
 rish Family Vineyard:geo:35.659244,-120.76005600000002
END:VEVENT
BEGIN:VTIMEZONE
TZID:America/Los_Angeles
X-LIC-LOCATION:America/Los_Angeles
BEGIN:DAYLIGHT
DTSTART:20260308T030000
TZOFFSETFROM:-0800
TZOFFSETTO:-0700
TZNAME:PDT
END:DAYLIGHT
END:VTIMEZONE
END:VCALENDAR