BEGIN:VCALENDAR
VERSION:2.0
PRODID:-//wp-events-plugin.com//7.2.3.1//EN
TZID:America/Los_Angeles
X-WR-TIMEZONE:America/Los_Angeles
BEGIN:VEVENT
UID:5147@pasorobleswineries.net
DTSTART;TZID=America/Los_Angeles:20230703T183000
DTEND;TZID=America/Los_Angeles:20230703T220000
DTSTAMP:20230527T023615Z
URL:https://pasorobleswineries.net/paso-robles-events/2023-red-white-booze
 -party/
SUMMARY:2023 Red\, White &amp\; Booze Party!
DESCRIPTION:Join us Monday evening\, July 3rd as we Kick-Off your Independe
 nce Day celebrations!\nCASS Winery Presents: Red\, White &amp\; Booze Part
 y!\nWe'll be hosting a 21+ shindig full of all the patriotic fun. Enjoy th
 e electric Live Music &amp\; Dancing by Lucky Devils Band\, Beer &amp\; Wi
 ne\, Patriotic Games (Cornhole &amp\; Giant Pong)\, Taco Bar\, Cold-Smoke 
 Photo Booth &amp\; more!\n\nYour ticket includes: A welcome splash of Oasi
 s Rose\, Taco Bar &amp\; a tasty dessert!\nBeer\, Wine &amp\; Soft Drinks 
 will be available for purchase. 21+ Only\, no pets please.\n\nBook Tickets
ATTACH;FMTTYPE=image/jpeg:https://prw-media.s3.us-west-1.amazonaws.com/wp-
 content/uploads/2023/05/23144443/RED-WHITE-AND-BOOZE-300-%C3%97-300-px.png
CATEGORIES:Live Music,Wine Events
LOCATION:Cass Winery\, 7350 Linne Road\, Paso Robles\, California\, 93446\,
  United States
GEO:35.5977138;-120.56483049999997
X-APPLE-STRUCTURED-LOCATION;VALUE=URI;X-ADDRESS=7350 Linne Road\, Paso Robl
 es\, California\, 93446\, United States;X-APPLE-RADIUS=100;X-TITLE=Cass Wi
 nery:geo:35.5977138,-120.56483049999997
END:VEVENT
BEGIN:VTIMEZONE
TZID:America/Los_Angeles
X-LIC-LOCATION:America/Los_Angeles
BEGIN:DAYLIGHT
DTSTART:20230312T030000
TZOFFSETFROM:-0800
TZOFFSETTO:-0700
TZNAME:PDT
END:DAYLIGHT
END:VTIMEZONE
END:VCALENDAR