BEGIN:VCALENDAR
VERSION:2.0
PRODID:-//wp-events-plugin.com//7.2.3.1//EN
TZID:America/Los_Angeles
X-WR-TIMEZONE:America/Los_Angeles
BEGIN:VEVENT
UID:1193@pasorobleswineries.net
DTSTART;TZID=America/Los_Angeles:20200717T180000
DTEND;TZID=America/Los_Angeles:20200717T210000
DTSTAMP:20200527T195903Z
URL:https://pasorobleswineries.net/paso-robles-events/2020-estate-beef-din
 ner-series-short-rib/
SUMMARY:2020 ESTATE BEEF DINNER SERIES: SHORT RIB
DESCRIPTION:Our 2020 Dinner Series is back by popular demand! Don’t miss 
 out on this intimate &amp\; unforgettable dinner featuring prime cuts of o
 ur estate-raised cattle. Each dinner is hosted by our very own Ted Plemons
  on our stunning Veranda surrounded by vino vines and carefully curated by
  our fabulous executive Chef Charles Paladin Wayne. This dining experience
  is limited to the first 25 guests\, so snag your spots now! We kindly ask
  for no dietary substitutions for these dinners\, but you will NOT be disa
 ppointed!
ATTACH;FMTTYPE=image/jpeg:https://prw-media.s3.us-west-1.amazonaws.com/wp-
 content/uploads/2020/05/23152331/EstateBeefSummer2020ProductPage1.png
CATEGORIES:Winemaker's Dinners
LOCATION:CASS Winery\, 7350 Linne Road\, Paso Robles\, CA\, 93446\, United 
 States\, United States
GEO:35.5977138;-120.5648305
X-APPLE-STRUCTURED-LOCATION;VALUE=URI;X-ADDRESS=7350 Linne Road\, Paso Robl
 es\, CA\, 93446\, United States\, United States;X-APPLE-RADIUS=100;X-TITLE
 =CASS Winery:geo:35.5977138,-120.5648305
END:VEVENT
BEGIN:VTIMEZONE
TZID:America/Los_Angeles
X-LIC-LOCATION:America/Los_Angeles
BEGIN:DAYLIGHT
DTSTART:20200308T030000
TZOFFSETFROM:-0800
TZOFFSETTO:-0700
TZNAME:PDT
END:DAYLIGHT
END:VTIMEZONE
END:VCALENDAR